BEGIN:VCALENDAR
VERSION:2.0
PRODID:-//Autismo Karitas - ECPv5.2.1.1//NONSGML v1.0//EN
CALSCALE:GREGORIAN
METHOD:PUBLISH
X-WR-CALNAME:Autismo Karitas
X-ORIGINAL-URL:https://autismokaritas.com
X-WR-CALDESC:Events for Autismo Karitas
BEGIN:VTIMEZONE
TZID:America/Bogota
BEGIN:STANDARD
TZOFFSETFROM:-0500
TZOFFSETTO:-0500
TZNAME:-05
DTSTART:20170101T000000
END:STANDARD
END:VTIMEZONE
BEGIN:VEVENT
DTSTART;TZID=America/Bogota:20171028T080000
DTEND;TZID=America/Bogota:20171028T100000
DTSTAMP:20260420T031713
CREATED:20171023T211841Z
LAST-MODIFIED:20171023T211841Z
UID:3243-1509177600-1509184800@autismokaritas.com
SUMMARY:Escuela de Padres
DESCRIPTION:TEMA: «Pautas sobre el asesoramiento terapéutico a padres y cuidadores en programas de modificación de conducta»
URL:https://autismokaritas.com/evento/escuela-de-padres-2/
LOCATION:Karitas Ips\, Cr 30a N° 7 - 51\, Cali\, Colombia
ATTACH;FMTTYPE=image/jpeg:https://autismokaritas.com/wp-content/uploads/2017/03/Escuela-de-Padres.jpg
END:VEVENT
END:VCALENDAR